BEGIN:VCALENDAR
VERSION:2.0
PRODID:-//FightLogy - ECPv6.12.0.1//NONSGML v1.0//EN
CALSCALE:GREGORIAN
METHOD:PUBLISH
X-ORIGINAL-URL:https://fightlogy.com
X-WR-CALDESC:Events for FightLogy
REFRESH-INTERVAL;VALUE=DURATION:PT1H
X-Robots-Tag:noindex
X-PUBLISHED-TTL:PT1H
BEGIN:VTIMEZONE
TZID:UTC
BEGIN:STANDARD
TZOFFSETFROM:+0000
TZOFFSETTO:+0000
TZNAME:UTC
DTSTART:20230101T000000
END:STANDARD
END:VTIMEZONE
BEGIN:VEVENT
DTSTART;VALUE=DATE:20230623
DTEND;VALUE=DATE:20230624
DTSTAMP:20260422T041100
CREATED:20230619T164339Z
LAST-MODIFIED:20230619T164339Z
UID:22956-1687478400-1687564799@fightlogy.com
SUMMARY:CCC 18: COLORADO COMBAT CLUB 18
DESCRIPTION:
URL:https://fightlogy.com/event/ccc-18-colorado-combat-club-18/
LOCATION:THE BRIGHTON\, DENVER\, CO\, United States
ATTACH;FMTTYPE=image/jpeg:https://fightlogy.com/wp-content/uploads/2022/11/nopreview.jpg
END:VEVENT
BEGIN:VEVENT
DTSTART;VALUE=DATE:20230623
DTEND;VALUE=DATE:20230624
DTSTAMP:20260422T041100
CREATED:20230619T164447Z
LAST-MODIFIED:20230619T164447Z
UID:22958-1687478400-1687564799@fightlogy.com
SUMMARY:BFC 72: BELARUSIAN FIGHTING CHAMPIONSHIP
DESCRIPTION:
URL:https://fightlogy.com/event/bfc-72-belarusian-fighting-championship/
LOCATION:PRIME HALL\, MINSK\, Belarus
ATTACH;FMTTYPE=image/jpeg:https://fightlogy.com/wp-content/uploads/2022/11/nopreview.jpg
END:VEVENT
BEGIN:VEVENT
DTSTART;VALUE=DATE:20230623
DTEND;VALUE=DATE:20230624
DTSTAMP:20260422T041100
CREATED:20230619T164543Z
LAST-MODIFIED:20230619T164543Z
UID:22962-1687478400-1687564799@fightlogy.com
SUMMARY:BRAVE CF 72: BRAVE COMBAT FEDERATION 72
DESCRIPTION:
URL:https://fightlogy.com/event/brave-cf-72-brave-combat-federation-72/
LOCATION:NATIONAL STADIUM\, RIFFA\, Bahrain
ATTACH;FMTTYPE=image/jpeg:https://fightlogy.com/wp-content/uploads/2022/11/nopreview.jpg
END:VEVENT
BEGIN:VEVENT
DTSTART;VALUE=DATE:20230623
DTEND;VALUE=DATE:20230624
DTSTAMP:20260422T041100
CREATED:20230619T164639Z
LAST-MODIFIED:20230619T164639Z
UID:22964-1687478400-1687564799@fightlogy.com
SUMMARY:ONE CHAMPIONSHIP: ONE FRIDAY FIGHTS 22
DESCRIPTION:
URL:https://fightlogy.com/event/one-championship-one-friday-fights-22/
LOCATION:LUMPINEE BOXING STADIUM\, BANGKOK\, Thailand
CATEGORIES:One Championship
ATTACH;FMTTYPE=image/jpeg:https://fightlogy.com/wp-content/uploads/2022/11/nopreview.jpg
END:VEVENT
BEGIN:VEVENT
DTSTART;VALUE=DATE:20230623
DTEND;VALUE=DATE:20230624
DTSTAMP:20260422T041100
CREATED:20230619T164732Z
LAST-MODIFIED:20230619T164732Z
UID:22967-1687478400-1687564799@fightlogy.com
SUMMARY:NFC 52 & URAL FC 3 NAIZA FIGHTER CHAMPIONSHIP 52
DESCRIPTION:
URL:https://fightlogy.com/event/nfc-52-ural-fc-3-naiza-fighter-championship-52/
LOCATION:ALMATY ARENA\, ALMATY\, Kazakhstan
ATTACH;FMTTYPE=image/jpeg:https://fightlogy.com/wp-content/uploads/2022/11/nopreview.jpg
END:VEVENT
BEGIN:VEVENT
DTSTART;VALUE=DATE:20230623
DTEND;VALUE=DATE:20230624
DTSTAMP:20260422T041100
CREATED:20230619T164837Z
LAST-MODIFIED:20230619T164837Z
UID:22969-1687478400-1687564799@fightlogy.com
SUMMARY:RIGORO FIGHTING CHAMPIONSHIP RFC: K-SERIES
DESCRIPTION:
URL:https://fightlogy.com/event/rigoro-fighting-championship-rfc-k-series/
LOCATION:MELROSE BALLROOM\, QUEENS\, NY\, United States
ATTACH;FMTTYPE=image/jpeg:https://fightlogy.com/wp-content/uploads/2022/11/nopreview.jpg
END:VEVENT
BEGIN:VEVENT
DTSTART;VALUE=DATE:20230624
DTEND;VALUE=DATE:20230625
DTSTAMP:20260422T041100
CREATED:20230619T170418Z
LAST-MODIFIED:20230619T170418Z
UID:22972-1687564800-1687651199@fightlogy.com
SUMMARY:KCC KINGDOM NATIONS COLLIDE: ENGLAND VS. SPAIN
DESCRIPTION:
URL:https://fightlogy.com/event/kcc-kingdom-nations-collide-england-vs-spain/
LOCATION:CAMP AND FURNACE\, LIVERPOOL\, United Kingdom
ATTACH;FMTTYPE=image/jpeg:https://fightlogy.com/wp-content/uploads/2022/11/nopreview.jpg
END:VEVENT
BEGIN:VEVENT
DTSTART;VALUE=DATE:20230624
DTEND;VALUE=DATE:20230625
DTSTAMP:20260422T041100
CREATED:20230619T170510Z
LAST-MODIFIED:20230619T170510Z
UID:22974-1687564800-1687651199@fightlogy.com
SUMMARY:559 FIGHTS 98: 559 FIGHTS
DESCRIPTION:
URL:https://fightlogy.com/event/559-fights-98-559-fights/
LOCATION:VALLEY STRONG BALLPARK\, VISALIA\, CA\, United States
ATTACH;FMTTYPE=image/jpeg:https://fightlogy.com/wp-content/uploads/2022/11/nopreview.jpg
END:VEVENT
BEGIN:VEVENT
DTSTART;VALUE=DATE:20230624
DTEND;VALUE=DATE:20230625
DTSTAMP:20260422T041100
CREATED:20230619T170600Z
LAST-MODIFIED:20230619T170600Z
UID:22976-1687564800-1687651199@fightlogy.com
SUMMARY:FLA 10: FIGHT LEAGUE ATLANTIC
DESCRIPTION:
URL:https://fightlogy.com/event/fla-10-fight-league-atlantic/
LOCATION:SACKVILLE\, NEW BRUNSWICK\, Canada
ATTACH;FMTTYPE=image/jpeg:https://fightlogy.com/wp-content/uploads/2022/11/nopreview.jpg
END:VEVENT
BEGIN:VEVENT
DTSTART;VALUE=DATE:20230624
DTEND;VALUE=DATE:20230625
DTSTAMP:20260422T041100
CREATED:20230619T170719Z
LAST-MODIFIED:20230619T170719Z
UID:22979-1687564800-1687651199@fightlogy.com
SUMMARY:BP 4: BEATDOWN PROMOTIONS 4
DESCRIPTION:
URL:https://fightlogy.com/event/bp-4-beatdown-promotions-4/
LOCATION:EATONS HILLS HOTEL & FUNCTION CENTRE\, EATONS HILL\, QUEENSLAND\, Australia
ATTACH;FMTTYPE=image/jpeg:https://fightlogy.com/wp-content/uploads/2022/11/nopreview.jpg
END:VEVENT
BEGIN:VEVENT
DTSTART;VALUE=DATE:20230624
DTEND;VALUE=DATE:20230625
DTSTAMP:20260422T041100
CREATED:20230619T170842Z
LAST-MODIFIED:20230619T170842Z
UID:22982-1687564800-1687651199@fightlogy.com
SUMMARY:CFC 9: CARIBBEAN FC 9: JESURUN VS. NEDD
DESCRIPTION:
URL:https://fightlogy.com/event/cfc-9-caribbean-fc-9-jesurun-vs-nedd/
LOCATION:ARUBA ENTERTAINMENT CENTER\, ORANJESTAD\, Aruba
ATTACH;FMTTYPE=image/jpeg:https://fightlogy.com/wp-content/uploads/2022/11/nopreview.jpg
END:VEVENT
BEGIN:VEVENT
DTSTART;VALUE=DATE:20230624
DTEND;VALUE=DATE:20230625
DTSTAMP:20260422T041100
CREATED:20230619T171009Z
LAST-MODIFIED:20230619T171009Z
UID:22985-1687564800-1687651199@fightlogy.com
SUMMARY:UFC ON ABC 5: EMMETT VS. TOPURIA
DESCRIPTION:
URL:https://fightlogy.com/event/ufc-on-abc-5-emmett-vs-topuria/
LOCATION:VYSTAR VETERANS MEMORIAL ARENA\, JACKSONVILLE\, FL\, United States
CATEGORIES:Ultimate Fighting Championship
ATTACH;FMTTYPE=image/jpeg:https://fightlogy.com/wp-content/uploads/2022/11/nopreview.jpg
END:VEVENT
BEGIN:VEVENT
DTSTART;VALUE=DATE:20230624
DTEND;VALUE=DATE:20230625
DTSTAMP:20260422T041100
CREATED:20230619T171124Z
LAST-MODIFIED:20230619T171124Z
UID:22988-1687564800-1687651199@fightlogy.com
SUMMARY:UGP 17: ULTIMO GUERRERO EN PIE 17
DESCRIPTION:
URL:https://fightlogy.com/event/ugp-17-ultimo-guerrero-en-pie-17/
LOCATION:COLISEO PALERMO CULTURAL\, MEDELLIN\, ANTIOQUIA\, Colombia
ATTACH;FMTTYPE=image/jpeg:https://fightlogy.com/wp-content/uploads/2022/11/nopreview.jpg
END:VEVENT
BEGIN:VEVENT
DTSTART;VALUE=DATE:20230624
DTEND;VALUE=DATE:20230625
DTSTAMP:20260422T041100
CREATED:20230619T171302Z
LAST-MODIFIED:20230619T171302Z
UID:22992-1687564800-1687651199@fightlogy.com
SUMMARY:VALHALLA MMA: ENTER THE DRAGON
DESCRIPTION:
URL:https://fightlogy.com/event/valhalla-mma-enter-the-dragon/
LOCATION:VENEZIA RESORT\, VENICE\, FL\, United States
ATTACH;FMTTYPE=image/jpeg:https://fightlogy.com/wp-content/uploads/2022/11/nopreview.jpg
END:VEVENT
BEGIN:VEVENT
DTSTART;VALUE=DATE:20230624
DTEND;VALUE=DATE:20230625
DTSTAMP:20260422T041100
CREATED:20230619T171411Z
LAST-MODIFIED:20230619T171411Z
UID:22996-1687564800-1687651199@fightlogy.com
SUMMARY:RIZIN FF: RIZIN 43
DESCRIPTION:
URL:https://fightlogy.com/event/rizin-ff-rizin-43/
LOCATION:MAKOMANAI SEKISUI HEIM ICE ARENA\, SAPPORO\, HOKKAIDO\, Japan
ATTACH;FMTTYPE=image/jpeg:https://fightlogy.com/wp-content/uploads/2022/11/nopreview.jpg
END:VEVENT
BEGIN:VEVENT
DTSTART;VALUE=DATE:20230624
DTEND;VALUE=DATE:20230625
DTSTAMP:20260422T041100
CREATED:20230619T171508Z
LAST-MODIFIED:20230619T171508Z
UID:23000-1687564800-1687651199@fightlogy.com
SUMMARY:SMMA 32: SHOWCASE MMA 32
DESCRIPTION:
URL:https://fightlogy.com/event/smma-32-showcase-mma-32/
LOCATION:MEADOWVIEW CONVENTION CENTER\, KINGSPORT\, TN\, United States
ATTACH;FMTTYPE=image/jpeg:https://fightlogy.com/wp-content/uploads/2022/11/nopreview.jpg
END:VEVENT
BEGIN:VEVENT
DTSTART;VALUE=DATE:20230624
DTEND;VALUE=DATE:20230625
DTSTAMP:20260422T041100
CREATED:20230619T171605Z
LAST-MODIFIED:20230619T171605Z
UID:23003-1687564800-1687651199@fightlogy.com
SUMMARY:SF 56: STELLAR FIGHTS 56
DESCRIPTION:
URL:https://fightlogy.com/event/sf-56-stellar-fights-56/
LOCATION:KENT BLDG\, HARRINGTON\, DE\, United States
ATTACH;FMTTYPE=image/jpeg:https://fightlogy.com/wp-content/uploads/2022/11/nopreview.jpg
END:VEVENT
BEGIN:VEVENT
DTSTART;VALUE=DATE:20230624
DTEND;VALUE=DATE:20230625
DTSTAMP:20260422T041100
CREATED:20230619T171657Z
LAST-MODIFIED:20230619T171657Z
UID:23006-1687564800-1687651199@fightlogy.com
SUMMARY:SHOOTO KINGS 10: YAMATODAMASHI
DESCRIPTION:
URL:https://fightlogy.com/event/shooto-kings-10-yamatodamashi/
LOCATION:HERRENBERG\, Germany
ATTACH;FMTTYPE=image/jpeg:https://fightlogy.com/wp-content/uploads/2022/11/nopreview.jpg
END:VEVENT
BEGIN:VEVENT
DTSTART;VALUE=DATE:20230624
DTEND;VALUE=DATE:20230625
DTSTAMP:20260422T041100
CREATED:20230619T171749Z
LAST-MODIFIED:20230619T171749Z
UID:23009-1687564800-1687651199@fightlogy.com
SUMMARY:JCK NIGHT CAGE SERIES 2022-2023 REGULAR SEASON PART 29: BOUNTY COMPETITION FINALS
DESCRIPTION:
URL:https://fightlogy.com/event/jck-night-cage-series-2022-2023-regular-season-part-29-bounty-competition-finals/
LOCATION:JCK INTERNATIONAL FIGHTING CENTER\, JIAOCHENG COUNTY\, SHANXI\, China
ATTACH;FMTTYPE=image/jpeg:https://fightlogy.com/wp-content/uploads/2022/11/nopreview.jpg
END:VEVENT
BEGIN:VEVENT
DTSTART;VALUE=DATE:20230624
DTEND;VALUE=DATE:20230625
DTSTAMP:20260422T041100
CREATED:20230619T171851Z
LAST-MODIFIED:20230619T171851Z
UID:23011-1687564800-1687651199@fightlogy.com
SUMMARY:INNFERNO 6: INNFERNO FIGHTING CHAMPIONSHIP 6
DESCRIPTION:
URL:https://fightlogy.com/event/innferno-6-innferno-fighting-championship-6/
LOCATION:DOGANA CONGRESS\, INNSBRUCK\, Austria
ATTACH;FMTTYPE=image/jpeg:https://fightlogy.com/wp-content/uploads/2022/11/nopreview.jpg
END:VEVENT
BEGIN:VEVENT
DTSTART;VALUE=DATE:20230624
DTEND;VALUE=DATE:20230625
DTSTAMP:20260422T041100
CREATED:20230619T172053Z
LAST-MODIFIED:20230619T172053Z
UID:23014-1687564800-1687651199@fightlogy.com
SUMMARY:ECF 1: ELITE CHAMPIONSHIP FIGHTING
DESCRIPTION:
URL:https://fightlogy.com/event/ecf-1-elite-championship-fighting/
LOCATION:WICHITA FALLS MPEC\, WICHITA FALLS\, TX\, United States
ATTACH;FMTTYPE=image/jpeg:https://fightlogy.com/wp-content/uploads/2022/11/nopreview.jpg
END:VEVENT
BEGIN:VEVENT
DTSTART;VALUE=DATE:20230624
DTEND;VALUE=DATE:20230625
DTSTAMP:20260422T041100
CREATED:20230619T172237Z
LAST-MODIFIED:20230619T172237Z
UID:23017-1687564800-1687651199@fightlogy.com
SUMMARY:FIERCE FC 26: MAFILEO VS. SCHAFFROTH
DESCRIPTION:
URL:https://fightlogy.com/event/fierce-fc-26-mafileo-vs-schaffroth/
LOCATION:MOUNTAIN AMERICA CENTER\, IDAHO FALLS\, ID\, United States
ATTACH;FMTTYPE=image/jpeg:https://fightlogy.com/wp-content/uploads/2022/11/nopreview.jpg
END:VEVENT
BEGIN:VEVENT
DTSTART;VALUE=DATE:20230624
DTEND;VALUE=DATE:20230625
DTSTAMP:20260422T041100
CREATED:20230619T172339Z
LAST-MODIFIED:20230619T172339Z
UID:23020-1687564800-1687651199@fightlogy.com
SUMMARY:DFN: DRACULA FIGHT NIGHT 9
DESCRIPTION:
URL:https://fightlogy.com/event/dfn-dracula-fight-night-9/
LOCATION:TIPSPORT ARENA\, BANSKA BYSTRICA\, Slovakia (Slovak Republic)
ATTACH;FMTTYPE=image/jpeg:https://fightlogy.com/wp-content/uploads/2022/11/nopreview.jpg
END:VEVENT
BEGIN:VEVENT
DTSTART;VALUE=DATE:20230624
DTEND;VALUE=DATE:20230625
DTSTAMP:20260422T041100
CREATED:20230619T172436Z
LAST-MODIFIED:20230619T172436Z
UID:23023-1687564800-1687651199@fightlogy.com
SUMMARY:NLFC: NEXT LEVEL FIGHT CLUB 15
DESCRIPTION:
URL:https://fightlogy.com/event/nlfc-next-level-fight-club-15/
LOCATION:GRADY COLE CENTER\, CHARLOTTE\, NC\, United States
ATTACH;FMTTYPE=image/jpeg:https://fightlogy.com/wp-content/uploads/2022/11/nopreview.jpg
END:VEVENT
BEGIN:VEVENT
DTSTART;VALUE=DATE:20230624
DTEND;VALUE=DATE:20230625
DTSTAMP:20260422T041100
CREATED:20230619T172537Z
LAST-MODIFIED:20230619T172537Z
UID:23025-1687564800-1687651199@fightlogy.com
SUMMARY:FIGHT NIGHT NEW ENGLAND: FELION VS. KEEFE
DESCRIPTION:
URL:https://fightlogy.com/event/fight-night-new-england-felion-vs-keefe/
LOCATION:RUTLAND\, VT\, United States
ATTACH;FMTTYPE=image/jpeg:https://fightlogy.com/wp-content/uploads/2022/11/nopreview.jpg
END:VEVENT
BEGIN:VEVENT
DTSTART;VALUE=DATE:20230624
DTEND;VALUE=DATE:20230625
DTSTAMP:20260422T041100
CREATED:20230619T172821Z
LAST-MODIFIED:20230619T172821Z
UID:23029-1687564800-1687651199@fightlogy.com
SUMMARY:GFS 4: GOLIATH FIGHT SERIES 4
DESCRIPTION:
URL:https://fightlogy.com/event/gfs-4-goliath-fight-series-4/
LOCATION:ALLOA TOWN HALL\, ALLOA\, United Kingdom
ATTACH;FMTTYPE=image/jpeg:https://fightlogy.com/wp-content/uploads/2022/11/nopreview.jpg
END:VEVENT
BEGIN:VEVENT
DTSTART;VALUE=DATE:20230624
DTEND;VALUE=DATE:20230625
DTSTAMP:20260422T041100
CREATED:20230619T172946Z
LAST-MODIFIED:20230619T172946Z
UID:23032-1687564800-1687651199@fightlogy.com
SUMMARY:SF COMBAT 12: STARS AND STRIPES
DESCRIPTION:
URL:https://fightlogy.com/event/sf-combat-12-stars-and-stripes/
LOCATION:NAPA VALLEY EXPO\, NAPA\, CA\, United States
ATTACH;FMTTYPE=image/jpeg:https://fightlogy.com/wp-content/uploads/2022/11/nopreview.jpg
END:VEVENT
BEGIN:VEVENT
DTSTART;VALUE=DATE:20230624
DTEND;VALUE=DATE:20230625
DTSTAMP:20260422T041100
CREATED:20230619T173101Z
LAST-MODIFIED:20230619T173101Z
UID:23036-1687564800-1687651199@fightlogy.com
SUMMARY:TFC 9: TUCUMAN FIGHTING CHAMPIONSHIP 9
DESCRIPTION:
URL:https://fightlogy.com/event/tfc-9-tucuman-fighting-championship-9/
LOCATION:NEIGHBORHOOD GARDEN CLUB\, SAN MIGUEL DE TUCUMAN\, TUCUMAN\, Argentina
ATTACH;FMTTYPE=image/jpeg:https://fightlogy.com/wp-content/uploads/2022/11/nopreview.jpg
END:VEVENT
BEGIN:VEVENT
DTSTART;VALUE=DATE:20230624
DTEND;VALUE=DATE:20230625
DTSTAMP:20260422T041100
CREATED:20230619T173323Z
LAST-MODIFIED:20230619T173323Z
UID:23039-1687564800-1687651199@fightlogy.com
SUMMARY:ROAD FC 64: ROAD FIGHTING CHAMPIONSHIP 64
DESCRIPTION:
URL:https://fightlogy.com/event/road-fc-64-road-fighting-championship-64/
LOCATION:WONJU GYMNASIUM\, WONJU\, GANGWON\, Korea\, Republic of
ATTACH;FMTTYPE=image/jpeg:https://fightlogy.com/wp-content/uploads/2022/11/nopreview.jpg
END:VEVENT
BEGIN:VEVENT
DTSTART;VALUE=DATE:20230624
DTEND;VALUE=DATE:20230625
DTSTAMP:20260422T041100
CREATED:20230619T173444Z
LAST-MODIFIED:20230619T173444Z
UID:23042-1687564800-1687651199@fightlogy.com
SUMMARY:SUPER PITBULL COMBAT MAE DO RIO: SUPER PITBULL COMBAT 16
DESCRIPTION:
URL:https://fightlogy.com/event/super-pitbull-combat-mae-do-rio-super-pitbull-combat-16/
LOCATION:JOEL NUNES GYMNASIUM\, MAE DO RIO\, PARA\, Brazil
ATTACH;FMTTYPE=image/jpeg:https://fightlogy.com/wp-content/uploads/2022/11/nopreview.jpg
END:VEVENT
END:VCALENDAR